BEGIN:VCALENDAR
VERSION:2.0
PRODID:-//jEvents 2.0 for Joomla//EN
CALSCALE:GREGORIAN
METHOD:PUBLISH
BEGIN:VEVENT
UID:9065bbdfd8d77d6949b5643f9d9fd237
CATEGORIES:Lịch làm việc
SUMMARY:Lịch làm việc tuần 16 của lãnh đạo Liên đoàn cập nhật lần 3
DESCRIPTION;ENCODING=QUOTED-PRINTABLE:<p style="margin: 0cm 0cm 0.0001pt -1cm; text-align: center; line-height: n
 ormal;" align="center"><span style="font-size: 14pt; font-family: 'Times Ne
 w Roman', serif; color: black;">TRUNG TÂM QUY HOẠCH VÀ ĐIỀU TRA TÀI NGUYÊN 
 NƯỚC QUỐC GIA</span></p>  <p style="margin: 0cm 0cm 0.0001pt -1cm; text-ali
 gn: center; line-height: normal;" align="center"><strong><span style="font-
 size: 14pt; font-family: 'Times New Roman', serif; color: black;">LIÊN ĐOÀN
  QUY HOẠCH VÀ ĐIỀU TRA TÀI NGUYÊN NƯỚC MIỀN BẮC</span></strong></p>  <p sty
 le="margin: 6pt 0cm; text-align: center; line-height: normal;" align="cente
 r"><strong><span style="font-size: 14pt; font-family: 'Times New Roman', se
 rif; color: black;">CHƯƠNG TRÌNH CÔNG TÁC CỦA LÃNH ĐẠO LIÊN ĐOÀN</span></st
 rong></p>  <p style="margin: 6pt 0cm 6pt 3cm; text-align: center; line-heig
 ht: normal;" align="center"><strong><em><span style="font-size: 14pt; font-
 family: 'Times New Roman', serif; color: black;">Tuần thứ 16 (từ ngày 20/4 
 đến ngày 24/4/2026)</span></em></strong></p>  <div align="center">  <table 
 style="width: 728px; border-collapse: collapse; border: none; height: 1155p
 x;" border="1" cellspacing="0" cellpadding="0">  <tbody>  <tr style="height
 : 7.2pt;">  <td style="width: 92.3pt; border: 1pt solid windowtext; padding
 : 0cm 5.4pt; height: 7.2pt;" width="154">  <p style="margin: 12pt 24pt; tex
 t-align: center; line-height: normal;" align="center"><strong><em><span sty
 le="font-size: 14pt; font-family: 'Times New Roman', serif; color: black;">
 Ngày tháng</span></em></strong></p>  </td>  <td style="width: 152pt; border
 -top: 1pt solid windowtext; border-right: 1pt solid windowtext; border-bott
 om: 1pt solid windowtext; border-left: none; padding: 0cm 5.4pt; height: 7.
 2pt;" width="253">  <p style="margin: 12pt 24pt; text-align: center; line-h
 eight: normal;" align="center"><strong><em><span style="font-size: 14pt; fo
 nt-family: 'Times New Roman', serif; color: black;">Chủ trì</span></em></st
 rong></p>  </td>  <td style="width: 244.25pt; border-top: 1pt solid windowt
 ext; border-right: 1pt solid windowtext; border-bottom: 1pt solid windowtex
 t; border-left: none; padding: 0cm 5.4pt; height: 7.2pt;" width="407">  <p 
 style="margin: 12pt 37.2pt; text-align: center; line-height: normal;" align
 ="center"><strong><em><span style="font-size: 14pt; font-family: 'Times New
  Roman', serif; color: black;">Nội dung - Địa điểm - Thành phần</span></em>
 </strong></p>  </td>  </tr>  <tr style="height: 7.2pt;">  <td style="width:
  92.3pt; border-right: 1pt solid windowtext; border-bottom: 1pt solid windo
 wtext; border-left: 1pt solid windowtext; border-top: none; padding: 0cm; h
 eight: 7.2pt;" rowspan="2" width="154">  <p style="margin: 6pt 8.85pt; text
 -align: center; line-height: normal;" align="center"><em><span style="font-
 size: 14pt; font-family: 'Times New Roman', serif; color: black;">Thứ hai</
 span></em></p>  <p style="margin: 6pt 8.85pt; text-align: center; line-heig
 ht: normal;" align="center"><em><span style="font-size: 14pt; font-family: 
 'Times New Roman', serif; color: black;">20/4</span></em></p>  </td>  <td s
 tyle="width: 152pt; border-top: none; border-left: none; border-bottom: 1pt
  solid windowtext; border-right: 1pt solid windowtext; padding: 0cm 5.4pt; 
 height: 7.2pt;" width="253">  <p style="margin: 6pt 8.85pt; text-align: cen
 ter; line-height: normal;" align="center"><span style="font-size: 14pt; fon
 t-family: 'Times New Roman', serif; color: black;">Liên đoàn trưởng</span><
 /p>  <p style="margin: 6pt 8.85pt; text-align: center; line-height: normal;
 " align="center"><span style="font-size: 14pt; font-family: 'Times New Roma
 n', serif; color: black;">Nguyễn Chí Nghĩa</span></p>  </td>  <td style="wi
 dth: 244.25pt; border-top: none; border-left: none; border-bottom: 1pt soli
 d windowtext; border-right: 1pt solid windowtext; padding: 0cm; height: 7.2
 pt;" width="407">  <p style="margin: 6pt 2.85pt; text-align: justify; line-
 height: normal;"><span style="font-size: 14pt; font-family: 'Times New Roma
 n', serif; color: black;">Đi công tác Philipine tham dự cuộc họp Hội đồng n
 ước Châu Á đến hết sáng ngày thứ 5.</span></p>  </td>  </tr>  <tr style="he
 ight: 7.2pt;">  <td style="width: 152pt; border-top: none; border-left: non
 e; border-bottom: 1pt solid windowtext; border-right: 1pt solid windowtext;
  padding: 0cm 5.4pt; height: 7.2pt;" width="253">  <p style="margin: 6pt 2.
 85pt; text-align: center; line-height: normal;" align="center"><span style=
 "font-size: 14pt; font-family: 'Times New Roman', serif; color: black;">Phó
  Liên đoàn trưởng</span></p>  <p style="margin: 6pt 2.85pt; text-align: cen
 ter; line-height: normal;" align="center"><span style="font-size: 14pt; fon
 t-family: 'Times New Roman', serif; color: black;">Hoàng Văn Hoan</span></p
 >  <p style="margin: 6pt 8.85pt; text-align: center; line-height: normal;" 
 align="center"><span style="font-size: 14pt; font-family: 'Times New Roman'
 , serif; color: black;">Phó Liên đoàn trưởng</span></p>  <p style="margin: 
 6pt 11.65pt; text-align: center; line-height: normal;" align="center"><span
  style="font-size: 14pt; font-family: 'Times New Roman', serif; color: blac
 k;">Luyện Đức Thuận</span></p>  </td>  <td style="width: 244.25pt; border-t
 op: none; border-left: none; border-bottom: 1pt solid windowtext; border-ri
 ght: 1pt solid windowtext; padding: 0cm; height: 7.2pt;" width="407">  <p s
 tyle="margin: 0cm 2.85pt 8pt; text-align: justify; line-height: normal;"><s
 pan style="font-size: 14pt; font-family: 'Times New Roman', serif; color: b
 lack;">Làm việc tại cơ quan</span></p>  </td>  </tr>  <tr style="height: 7.
 2pt;">  <td style="width: 92.3pt; border-right: 1pt solid windowtext; borde
 r-bottom: 1pt solid windowtext; border-left: 1pt solid windowtext; border-t
 op: none; padding: 0cm; height: 7.2pt;" width="154">  <p style="margin: 6pt
  2.85pt; text-align: center; line-height: normal;" align="center"><em><span
  style="font-size: 14pt; font-family: 'Times New Roman', serif; color: blac
 k;">Thứ ba</span></em></p>  <p style="margin: 6pt 8.85pt; text-align: cente
 r; line-height: normal;" align="center"><em><span style="font-size: 14pt; f
 ont-family: 'Times New Roman', serif; color: black;">21/4</span></em></p>  
 </td>  <td style="width: 152pt; border-top: none; border-left: none; border
 -bottom: 1pt solid windowtext; border-right: 1pt solid windowtext; padding:
  0cm 5.4pt; height: 7.2pt;" width="253">  <p style="margin: 6pt 2.85pt; tex
 t-align: center; line-height: normal;" align="center"><span style="font-siz
 e: 14pt; font-family: 'Times New Roman', serif; color: black;">Phó Liên đoà
 n trưởng</span></p>  <p style="margin: 6pt 2.85pt; text-align: center; line
 -height: normal;" align="center"><span style="font-size: 14pt; font-family:
  'Times New Roman', serif; color: black;">Hoàng Văn Hoan</span></p>  <p sty
 le="margin: 6pt 8.85pt; text-align: center; line-height: normal;" align="ce
 nter"><span style="font-size: 14pt; font-family: 'Times New Roman', serif; 
 color: black;">Phó Liên đoàn trưởng</span></p>  <p style="margin: 6pt 2.85p
 t; text-align: center; line-height: normal;" align="center"><span style="fo
 nt-size: 14pt; font-family: 'Times New Roman', serif; color: black;">Luyện 
 Đức Thuận</span></p>  </td>  <td style="width: 244.25pt; border-top: none; 
 border-left: none; border-bottom: 1pt solid windowtext; border-right: 1pt s
 olid windowtext; padding: 0cm; height: 7.2pt;" width="407">  <p style="marg
 in: 6pt 2.85pt; text-align: justify; line-height: normal;"><em><span style=
 "font-size: 14pt; font-family: 'Times New Roman', serif; color: red;">- 08h
 30’</span></em><span style="font-size: 14pt; font-family: 'Times New Roman'
 , serif;">: Họp triển khai nhiệm vụ “Điều tra, phân loại và lập danh mục ng
 uồn nước mặt sông liên tỉnh bị ô nhiễm, suy thoái, cạn kiệt trên phạm vi to
 àn quốc”, tại Phòng họp A501</span></p>  <p style="margin: 6pt 2.85pt; text
 -align: justify; line-height: normal;"><em><span style="font-size: 14pt; fo
 nt-family: 'Times New Roman', serif;">- 14h00’</span></em><span style="font
 -size: 14pt; font-family: 'Times New Roman', serif; color: black;">: Họp ng
 he công tác chuẩn bị nhân vật lực và phương án triển khai thi công dự án “ 
 Danh mục các nguồn nước ô nhiễm, cạn kiệt” tại phòng 802</span></p>  <p sty
 le="margin: 6pt 2.85pt; text-align: justify; line-height: normal;"><em><spa
 n style="font-size: 14pt; font-family: 'Times New Roman', serif; color: bla
 ck;">A Thuận chủ trì, anh Hoan cùng dự</span></em></p>  <p style="margin: 6
 pt 2.85pt; text-align: justify; line-height: normal;"><strong><em><span sty
 le="font-size: 14pt; font-family: 'Times New Roman', serif; color: black;">
 Thành phần: Các đơn vị thi công, C Hương, C Thủy, Anh Tùng, anh Quảng phòng
  CN, C Thu ( Phòng QH) và anh Phúc chuẩn bị báo cáo</span></em></strong></p
 >  </td>  </tr>  <tr style="height: 7.2pt;">  <td style="width: 92.3pt; bor
 der-right: 1pt solid windowtext; border-bottom: 1pt solid windowtext; borde
 r-left: 1pt solid windowtext; border-top: none; padding: 0cm; height: 7.2pt
 ;" rowspan="2" width="154">  <p style="margin: 6pt 8.85pt; text-align: cent
 er; line-height: normal;" align="center"><em><span style="font-size: 14pt; 
 font-family: 'Times New Roman', serif; color: black;">Thứ tư</span></em></p
 >  <p style="margin: 6pt 8.85pt; text-align: center; line-height: normal;" 
 align="center"><em><span style="font-size: 14pt; font-family: 'Times New Ro
 man', serif; color: black;">22/4</span></em></p>  </td>  <td style="width: 
 152pt; border-top: none; border-left: none; border-bottom: 1pt solid window
 text; border-right: 1pt solid windowtext; padding: 0cm 5.4pt; height: 7.2pt
 ;" width="253">  <p style="margin: 6pt 2.85pt; text-align: center; line-hei
 ght: normal;" align="center"><span style="font-size: 14pt; font-family: 'Ti
 mes New Roman', serif; color: black;">Phó Liên đoàn trưởng</span></p>  <p s
 tyle="margin: 6pt 2.85pt; text-align: center; line-height: normal;" align="
 center"><span style="font-size: 14pt; font-family: 'Times New Roman', serif
 ; color: black;">Hoàng Văn Hoan</span></p>  </td>  <td style="width: 244.25
 pt; border-top: none; border-left: none; border-bottom: 1pt solid windowtex
 t; border-right: 1pt solid windowtext; padding: 0cm; height: 7.2pt;" width=
 "407">  <p style="margin: 6pt 2.85pt; text-align: justify; line-height: nor
 mal;"><em><span style="font-size: 14pt; font-family: 'Times New Roman', ser
 if;">- 8h30’</span></em><span style="font-size: 14pt; font-family: 'Times N
 ew Roman', serif;">: <span style="color: black;">Nghe báo cáo tình hình rà 
 soát, hoàn thiện Đề cuowng nhiệm vụ mở mới: “ Điều tra, đánh giá trữ lượng,
  chất lượng nước dưới đất tỷ lệ 1: 100.000 tại các lưu vực sông: Hồng- Thái
  Bình, Vu Gia- Thu Bồn, ven biển Nam Trung Bộ, Đồng Nai, Cửu Long, tại phòn
 g 802</span></span></p>  <p style="margin: 6pt 2.85pt; text-align: justify;
  line-height: normal;"><strong><em><span style="font-size: 14pt; font-famil
 y: 'Times New Roman', serif; color: black;">A Thông Văn phòng cùng dự, Anh 
 Phúc phụ trách phòng Quy hoạch và nhóm hoàn thiện Đề cương chuẩn bị.</span>
 </em></strong></p>  <p style="margin: 6pt 2.85pt; text-align: justify; line
 -height: normal;"><em><span style="font-size: 14pt; font-family: 'Times New
  Roman', serif; color: black;">- Chiều</span></em><span style="font-size: 1
 4pt; font-family: 'Times New Roman', serif; color: black;">: Làm việc tại c
 ơ quan</span></p>  </td>  </tr>  <tr style="height: 7.2pt;">  <td style="wi
 dth: 152pt; border-top: none; border-left: none; border-bottom: 1pt solid w
 indowtext; border-right: 1pt solid windowtext; padding: 0cm 5.4pt; height: 
 7.2pt;" width="253">  <p style="margin: 6pt 2.85pt; text-align: center; lin
 e-height: normal;" align="center"><span style="font-size: 14pt; font-family
 : 'Times New Roman', serif; color: black;">Phó Liên đoàn trưởng</span></p> 
  <p style="margin: 6pt 2.85pt; text-align: center; line-height: normal;" al
 ign="center"><span style="font-size: 14pt; font-family: 'Times New Roman', 
 serif; color: black;">Luyện Đức Thuận</span></p>  </td>  <td style="width: 
 244.25pt; border-top: none; border-left: none; border-bottom: 1pt solid win
 dowtext; border-right: 1pt solid windowtext; padding: 0cm; height: 7.2pt;" 
 width="407">  <p style="margin: 6pt 2.85pt; text-align: justify; line-heigh
 t: normal;"><span style="font-size: 14pt; font-family: 'Times New Roman', s
 erif; color: black;">Làm việc tại cơ quan</span></p>  </td>  </tr>  <tr sty
 le="height: 7.2pt;">  <td style="width: 92.3pt; border-right: 1pt solid win
 dowtext; border-bottom: 1pt solid windowtext; border-left: 1pt solid window
 text; border-top: none; padding: 0cm; height: 7.2pt;" rowspan="2" width="15
 4">  <p style="margin: 6pt 8.85pt; text-align: center; line-height: normal;
 " align="center"><em><span style="font-size: 14pt; font-family: 'Times New 
 Roman', serif; color: black;">Thứ năm</span></em></p>  <p style="margin: 6p
 t 8.85pt; text-align: center; line-height: normal;" align="center"><em><spa
 n style="font-size: 14pt; font-family: 'Times New Roman', serif; color: bla
 ck;">23/4</span></em></p>  </td>  <td style="width: 152pt; border-top: none
 ; border-left: none; border-bottom: 1pt solid windowtext; border-right: 1pt
  solid windowtext; padding: 0cm 5.4pt; height: 7.2pt;" width="253">  <p sty
 le="margin: 6pt 8.85pt; text-align: center; line-height: normal;" align="ce
 nter"><span style="font-size: 14pt; font-family: 'Times New Roman', serif; 
 color: black;">Liên đoàn trưởng</span></p>  <p style="margin: 6pt 8.85pt; t
 ext-align: center; line-height: normal;" align="center"><span style="font-s
 ize: 14pt; font-family: 'Times New Roman', serif; color: black;">Nguyễn Chí
  Nghĩa</span></p>  </td>  <td style="width: 244.25pt; border-top: none; bor
 der-left: none; border-bottom: 1pt solid windowtext; border-right: 1pt soli
 d windowtext; padding: 0cm; height: 7.2pt;" width="407">  <p style="margin:
  6pt 2.85pt; text-align: justify; line-height: normal;"><span style="font-s
 ize: 14pt; font-family: 'Times New Roman', serif; color: black;"> <em>-Chiề
 u</em>: Làm việc tại cơ quan</span></p>  </td>  </tr>  <tr style="height: 7
 .2pt;">  <td style="width: 152pt; border-top: none; border-left: none; bord
 er-bottom: 1pt solid windowtext; border-right: 1pt solid windowtext; paddin
 g: 0cm 5.4pt; height: 7.2pt;" width="253">  <p style="margin: 6pt 2.85pt; t
 ext-align: center; line-height: normal;" align="center"><span style="font-s
 ize: 14pt; font-family: 'Times New Roman', serif; color: black;">Phó Liên đ
 oàn trưởng</span></p>  <p style="margin: 6pt 2.85pt; text-align: center; li
 ne-height: normal;" align="center"><span style="font-size: 14pt; font-famil
 y: 'Times New Roman', serif; color: black;">Hoàng Văn Hoan</span></p>  <p s
 tyle="margin: 6pt 2.85pt; text-align: center; line-height: normal;" align="
 center"><span style="font-size: 14pt; font-family: 'Times New Roman', serif
 ; color: black;">Phó Liên đoàn trưởng</span></p>  <p style="margin: 6pt 2.8
 5pt; text-align: center; line-height: normal;" align="center"><span style="
 font-size: 14pt; font-family: 'Times New Roman', serif; color: black;">Luyệ
 n Đức Thuận</span></p>  </td>  <td style="width: 244.25pt; border-top: none
 ; border-left: none; border-bottom: 1pt solid windowtext; border-right: 1pt
  solid windowtext; padding: 0cm; height: 7.2pt;" width="407">  <p style="ma
 rgin: 6pt 2.85pt; text-align: justify; line-height: normal;"><span style="f
 ont-size: 14pt; font-family: 'Times New Roman', serif; color: black;">Làm v
 iệc tại cơ quan</span></p>  </td>  </tr>  <tr style="height: 7.2pt;">  <td 
 style="width: 92.3pt; border-right: 1pt solid windowtext; border-bottom: 1p
 t solid windowtext; border-left: 1pt solid windowtext; border-top: none; pa
 dding: 0cm; height: 7.2pt;" width="154">  <p style="margin: 6pt 8.85pt; tex
 t-align: center; line-height: normal;" align="center"><em><span style="font
 -size: 14pt; font-family: 'Times New Roman', serif; color: black;">Thứ sáu<
 /span></em></p>  <p style="margin: 6pt 8.85pt; text-align: center; line-hei
 ght: normal;" align="center"><em><span style="font-size: 14pt; font-family:
  'Times New Roman', serif; color: black;">24/4</span></em></p>  </td>  <td 
 style="width: 152pt; border-top: none; border-left: none; border-bottom: 1p
 t solid windowtext; border-right: 1pt solid windowtext; padding: 0cm 5.4pt;
  height: 7.2pt;" width="253">  <p style="margin: 6pt 11.65pt; text-align: c
 enter; line-height: normal;" align="center"><span style="font-size: 14pt; f
 ont-family: 'Times New Roman', serif; color: black;">Lãnh đạo Liên đoàn</sp
 an></p>  </td>  <td style="width: 244.25pt; border-top: none; border-left: 
 none; border-bottom: 1pt solid windowtext; border-right: 1pt solid windowte
 xt; padding: 0cm; height: 7.2pt;" width="407">  <p style="margin: 6pt 2.85p
 t; text-align: justify; line-height: normal;"><span style="font-size: 14pt;
  font-family: 'Times New Roman', serif; color: black;">Làm việc tại cơ quan
 </span></p>  </td>  </tr>  </tbody>  </table>  </div>
DTSTAMP:20260421T052840Z
DTSTART;TZID=Asia/Ho_Chi_Minh:20260420T080000
DTEND;TZID=Asia/Ho_Chi_Minh:20260420T170000
SEQUENCE:0
TRANSP:OPAQUE
END:VEVENT
END:VCALENDAR