BEGIN:VCALENDAR
VERSION:2.0
PRODID:-//jEvents 2.0 for Joomla//EN
CALSCALE:GREGORIAN
METHOD:PUBLISH
BEGIN:VEVENT
UID:02bc5b0cd011ae09c10301873f54c222
CATEGORIES:Lịch làm việc
SUMMARY:Lịch làm việc tuần 16 của Lãnh đạo Liên đoàn
DESCRIPTION;ENCODING=QUOTED-PRINTABLE:TRUNG TÂM QUY HOẠCH VÀ ĐIỀU TRA TÀI NGUYÊN NƯỚC QUỐC GIA\n  LIÊN ĐOÀN QUY H
 OẠCH VÀ ĐIỀU TRA TÀI NGUYÊN NƯỚC MIỀN BẮC\n  CHƯƠNG TRÌNH CÔNG TÁC CỦA LÃNH
  ĐẠO LIÊN ĐOÀN\n  Tuần thứ 16 (từ ngày 20/4 đến ngày 24/4/2026)\n          
   Ngày tháng\n      Chủ trì\n      Nội dung - Địa điểm - Thành phần\n      
     Thứ hai\n  20/4\n      Liên đoàn trưởng\n  Nguyễn Chí Nghĩa\n      Đi c
 ông tác Philipine tham dự cuộc họp Hội đồng nước Châu Á đến hết sáng ngày t
 hứ 5.\n          Phó Liên đoàn trưởng\n  Hoàng Văn Hoan\n  Phó Liên đoàn tr
 ưởng\n  Luyện Đức Thuận\n      Làm việc tại cơ quan\n          Thứ ba\n  21
 /4\n      Phó Liên đoàn trưởng\n  Hoàng Văn Hoan\n  Phó Liên đoàn trưởng\n 
  Luyện Đức Thuận\n      Làm việc tại cơ quan\n          Thứ tư\n  22/4\n   
    Phó Liên đoàn trưởng\n  Hoàng Văn Hoan\n  Phó Liên đoàn trưởng\n  Luyện 
 Đức Thuận\n      Làm việc tại cơ quan\n          Thứ năm\n  23/4\n      Liê
 n đoàn trưởng\n  Nguyễn Chí Nghĩa\n       -Chiều: Làm việc tại cơ quan\n   
        Phó Liên đoàn trưởng\n  Hoàng Văn Hoan\n  Phó Liên đoàn trưởng\n  Lu
 yện Đức Thuận\n      Làm việc tại cơ quan\n          Thứ sáu\n  24/4\n     
  Lãnh đạo Liên đoàn\n      Làm việc tại cơ quan\n          
DTSTAMP:20260420T042955Z
DTSTART;TZID=Asia/Ho_Chi_Minh:20260419T080000
DTEND;TZID=Asia/Ho_Chi_Minh:20260419T170000
SEQUENCE:0
TRANSP:OPAQUE
END:VEVENT
END:VCALENDAR